Workbook

Sheet Risk  Management Matrix
A1: Contextual Risks
B2: Context:
B3: File No:
B5: Risk factor | D5: Likelihood | E5: Background to assessement | G5: Impact | H5: Background to assessment | J5: Risk response if applicable / potential effect on development cooperation in context
A7: 1
A9: 2
A11: 3
A13: 4
A15: 5
A17: 6
A19: 7
A21: 8
A23: 9
A25: 10
A28: Programmatic and Institutional Risks
B29: Title:
B30: File No:
A31: Programmatic Risks
B33: Risk factor | D33: Likelihood | E33: Background to assessement of likelihood | G33: Impact | H33: Background to assessment to potential impact | J33: Risk response | L33: Combined residual risk
A35: P1
A37: P2
A39: P3
A41: P4
A43: P5
A45: P6
A47: P7
A49: P8
A51: P9
A53: P10
A56: Institutional Risks
B58: Risk factor | D58: Likelihood | E58: Background to assessement of likelihood | G58: Impact | H58: Background to assessment of potential impact | J58: Risk response | L58: Combined residual risk
A60: I1 | B60: =+B35 -> 0 | D60: =+D35 -> 0 | E60: =+E35 -> 0
A62: I2 | B62: =+B37 -> 0 | D62: =+D37 -> 0 | E62: =+E37 -> 0
A64: I3 | B64: =+B39 -> 0 | D64: =+D39 -> 0 | E64: =+E39 -> 0
A66: I4 | B66: =+B41 -> 0 | D66: =+D41 -> 0 | E66: =+E41 -> 0
A68: I5 | B68: =+B43 -> 0 | D68: =+D43 -> 0 | E68: =+E43 -> 0
A70: I6 | B70: =+B45 -> 0 | D70: =+D45 -> 0 | E70: =+E45 -> 0
A72: I7 | B72: =+B47 -> 0 | D72: =+D47 -> 0 | E72: =+E47 -> 0
A74: I8 | B74: =+B49 -> 0 | D74: =+D49 -> 0 | E74: =+E49 -> 0
A76: I9 | B76: =+B51 -> 0 | D76: =+D51 -> 0 | E76: =+E51 -> 0
A78: I10 | B78: =+B53 -> 0 | D78: =+D53 -> 0 | E78: =+E53 -> 0
A81: Deviations and follow-up
B82: Title: | D82: =+D29 -> 0
B83: File No: | D83: =+D30 -> 0

Sheet Summary
A1: Risk summary for grant proposal
A3: =+'Risk Management Matrix'!A28 -> Programmatic and Institutional Risks
A4: Risk factor | B4: Likelihood | C4: Impact | D4: Risk response | E4: Combined residual risk
A5: Programmatic Risks
A6: =+'Risk Management Matrix'!B35 -> 0 | B6: ='Risk Management Matrix'!D35 -> 0 | C6: =+'Risk Management Matrix'!G35 -> 0 | D6: =+'Risk Management Matrix'!H35 -> 0 | E6: =+'Risk Management Matrix'!L35 -> 0
A7: =+'Risk Management Matrix'!B37 -> 0 | B7: =+'Risk Management Matrix'!D37 -> 0 | C7: =+'Risk Management Matrix'!G39 -> 0 | D7: =+'Risk Management Matrix'!H37 -> 0 | E7: =+'Risk Management Matrix'!L37 -> 0
A8: =+'Risk Management Matrix'!B39 -> 0 | B8: =+'Risk Management Matrix'!D37 -> 0 | C8: =+'Risk Management Matrix'!G39 -> 0 | D8: =+'Risk Management Matrix'!H39 -> 0 | E8: =+'Risk Management Matrix'!L39 -> 0
A9: =+'Risk Management Matrix'!A56 -> Institutional Risks
A10: =+'Risk Management Matrix'!B60 -> 0 | B10: =+'Risk Management Matrix'!D60 -> 0 | C10: =+'Risk Management Matrix'!G60 -> 0 | D10: =+'Risk Management Matrix'!J60 -> 0 | E10: =+'Risk Management Matrix'!L60 -> 0
A11: =+'Risk Management Matrix'!B62 -> 0 | B11: =+'Risk Management Matrix'!D62 -> 0 | C11: =+'Risk Management Matrix'!G62 -> 0 | D11: =+'Risk Management Matrix'!H62 -> 0 | E11: =+'Risk Management Matrix'!L62 -> 0
A12: =+'Risk Management Matrix'!B64 -> 0 | B12: =+'Risk Management Matrix'!D64 -> 0 | C12: =+'Risk Management Matrix'!G64 -> 0 | D12: =+'Risk Management Matrix'!H64 -> 0 | E12: =+'Risk Management Matrix'!L64 -> 0

Sheet Additional for Country Programm
A1: Programmatic and Institutional Risks
B2: Title:
B3: File No:
A4: Programmatic Risks
B6: Risk factor | D6: Likelihood | E6: Background to assessement of likelihood | G6: Impact | H6: Background to assessment to potential impact | J6: Risk response | L6: Combined residual risk
A8: P1
A10: P2
A12: P3
A14: P4
A16: P5
A18: P6
A20: P7
A22: P8
A24: P9
A26: P10
A29: Institutional Risks
B31: Risk factor | D31: Likelihood | E31: Background to assessement of likelihood | G31: Impact | H31: Background to assessment of potential impact | J31: Risk response | L31: Combined residual risk
A33: I1 | B33: =+B8 -> 0 | D33: =+D8 -> 0 | E33: =+E8 -> 0
A35: I2 | B35: =+B10 -> 0 | D35: =+D10 -> 0 | E35: =+E10 -> 0
A37: I3 | B37: =+B12 -> 0 | D37: =+D12 -> 0 | E37: =+E12 -> 0
A39: I4 | B39: =+B14 -> 0 | D39: =+D14 -> 0 | E39: =+E14 -> 0
A41: I5 | B41: =+B16 -> 0 | D41: =+D16 -> 0 | E41: =+E16 -> 0
A43: I6 | B43: =+B18 -> 0 | D43: =+D18 -> 0 | E43: =+E18 -> 0
A45: I7 | B45: =+B20 -> 0 | D45: =+D20 -> 0 | E45: =+E20 -> 0
A47: I8 | B47: =+B22 -> 0 | D47: =+D22 -> 0 | E47: =+E22 -> 0
A49: I9 | B49: =+B24 -> 0 | D49: =+D24 -> 0 | E49: =+E24 -> 0
A51: I10 | B51: =+B26 -> 0 | D51: =+D26 -> 0 | E51: =+E26 -> 0

Sheet Lister
B3: Likelihood | D3: Impact
B4: Almost Certain | C4: 5 | D4: Significant
B5: Likely | C5: 4 | D5: Major
B6: Unlikely | C6: 2 | D6: Minor
B7: Rare | C7: 1 | D7: Insignifcant

Sheet Context only
A1: Contextual Risks
B2: Context:
B3: File No:
B5: Risk factor | D5: Likelihood | E5: Background to assessement | G5: Impact | H5: Background to assessment | J5: Risk response if applicable / potential effect on development cooperation in context
A7: 1
A9: 2
A11: 3
A13: 4
A15: 5
A17: 6
A19: 7
A21: 8
A23: 9
A25: 10
